BEGIN:VCALENDAR
VERSION:2.0
PRODID:-//kyohatsu//JP
CALSCALE:GREGORIAN
BEGIN:VEVENT
DTSTART;VALUE=DATE:20260501
SUMMARY:AIは人間を殺さない、飼い殺す
DESCRIPTION:適菜収 ベストセラーズ
UID:9784584126226@kyohatsu.lb-product.com
END:VEVENT
END:VCALENDAR
