BEGIN:VCALENDAR
VERSION:2.0
PRODID:-//kyohatsu//JP
CALSCALE:GREGORIAN
BEGIN:VEVENT
DTSTART;VALUE=DATE:20260522
SUMMARY:フランスの大学生
DESCRIPTION:遠藤周作 中央公論新社
UID:9784122077898@kyohatsu.lb-product.com
END:VEVENT
END:VCALENDAR
