BEGIN:VCALENDAR
VERSION:2.0
PRODID:-//kyohatsu//JP
CALSCALE:GREGORIAN
BEGIN:VEVENT
DTSTART;VALUE=DATE:20260605
SUMMARY:ママがもうこの世界にいなくても 私の命の日記
DESCRIPTION:遠藤 和 小学館
UID:9784094075731@kyohatsu.lb-product.com
END:VEVENT
END:VCALENDAR
