BEGIN:VCALENDAR
VERSION:2.0
PRODID:-//kyohatsu//JP
CALSCALE:GREGORIAN
BEGIN:VEVENT
DTSTART;VALUE=DATE:20260526
SUMMARY:鳴川くんは泣かされたくない（9）
DESCRIPTION:遠山あちは 小学館
UID:9784098733392@kyohatsu.lb-product.com
END:VEVENT
END:VCALENDAR
