BEGIN:VCALENDAR
VERSION:2.0
PRODID:-//kyohatsu//JP
CALSCALE:GREGORIAN
BEGIN:VEVENT
DTSTART;VALUE=DATE:20260526
SUMMARY:サレ恋（1）
DESCRIPTION:遠山 えま 小学館
UID:9784098734368@kyohatsu.lb-product.com
END:VEVENT
BEGIN:VEVENT
DTSTART;VALUE=DATE:20260529
SUMMARY:千年の花嫁（3）
DESCRIPTION:遠山 えま 講談社
UID:9784065431382@kyohatsu.lb-product.com
END:VEVENT
END:VCALENDAR
