BEGIN:VCALENDAR
VERSION:2.0
PRODID:-//kyohatsu//JP
CALSCALE:GREGORIAN
BEGIN:VEVENT
DTSTART;VALUE=DATE:20260509
SUMMARY:白色光の影を浚う
DESCRIPTION:遠坂八重 祥伝社
UID:9784396636944@kyohatsu.lb-product.com
END:VEVENT
END:VCALENDAR
