BEGIN:VCALENDAR
VERSION:2.0
PRODID:-//kyohatsu//JP
CALSCALE:GREGORIAN
BEGIN:VEVENT
DTSTART;VALUE=DATE:20260526
SUMMARY:ウチに帰って婚活します（4）
DESCRIPTION:逆巻詩音 小学館
UID:9784098733835@kyohatsu.lb-product.com
END:VEVENT
END:VCALENDAR
