BEGIN:VCALENDAR
VERSION:2.0
PRODID:-//kyohatsu//JP
CALSCALE:GREGORIAN
BEGIN:VEVENT
DTSTART;VALUE=DATE:20260723
SUMMARY:井伊直政　赤添えの鬼武者（下）【毎日文庫】
DESCRIPTION:近衛龍春 毎日新聞出版
UID:9784620211077@kyohatsu.lb-product.com
END:VEVENT
BEGIN:VEVENT
DTSTART;VALUE=DATE:20260723
SUMMARY:井伊直政　赤添えの鬼武者（上）【毎日文庫】
DESCRIPTION:近衛龍春 毎日新聞出版
UID:9784620211060@kyohatsu.lb-product.com
END:VEVENT
END:VCALENDAR
