BEGIN:VCALENDAR
VERSION:2.0
PRODID:-//kyohatsu//JP
CALSCALE:GREGORIAN
BEGIN:VEVENT
DTSTART;VALUE=DATE:20260527
SUMMARY:三行で撃つ　〈善く、生きる〉ための文章塾［増補版］（CEMH文庫　こ01）
DESCRIPTION:近藤康太郎 CEメディアハウス
UID:9784484221571@kyohatsu.lb-product.com
END:VEVENT
BEGIN:VEVENT
DTSTART;VALUE=DATE:20260527
SUMMARY:百冊で耕す　〈自由に、なる〉ための読書術［増補版］（CEMH文庫　こ02）
DESCRIPTION:近藤康太郎 CEメディアハウス
UID:9784484221588@kyohatsu.lb-product.com
END:VEVENT
END:VCALENDAR
