BEGIN:VCALENDAR
VERSION:2.0
PRODID:-//kyohatsu//JP
CALSCALE:GREGORIAN
BEGIN:VEVENT
DTSTART;VALUE=DATE:20260605
SUMMARY:ファイア・ドーム（下）
DESCRIPTION:辻村 深月 小学館
UID:9784093867702@kyohatsu.lb-product.com
END:VEVENT
BEGIN:VEVENT
DTSTART;VALUE=DATE:20260605
SUMMARY:ファイア・ドーム（上）
DESCRIPTION:辻村 深月 小学館
UID:9784093867696@kyohatsu.lb-product.com
END:VEVENT
END:VCALENDAR
