BEGIN:VCALENDAR
VERSION:2.0
PRODID:-//kyohatsu//JP
CALSCALE:GREGORIAN
BEGIN:VEVENT
DTSTART;VALUE=DATE:20260618
SUMMARY:タイトル未定
DESCRIPTION:辰巳シーナ 
UID:4562354733080@kyohatsu.lb-product.com
END:VEVENT
END:VCALENDAR
