BEGIN:VCALENDAR
VERSION:2.0
PRODID:-//kyohatsu//JP
CALSCALE:GREGORIAN
BEGIN:VEVENT
DTSTART;VALUE=DATE:20260612
SUMMARY:猫追い　古道具屋　皆塵堂
DESCRIPTION:輪渡 颯介 講談社
UID:9784065438688@kyohatsu.lb-product.com
END:VEVENT
END:VCALENDAR
