BEGIN:VCALENDAR
VERSION:2.0
PRODID:-//kyohatsu//JP
CALSCALE:GREGORIAN
BEGIN:VEVENT
DTSTART;VALUE=DATE:20260610
SUMMARY:PRISM
DESCRIPTION:踊ってばかりの国 FIVELATER
UID:4522197165684@kyohatsu.lb-product.com
END:VEVENT
END:VCALENDAR
