BEGIN:VCALENDAR
VERSION:2.0
PRODID:-//kyohatsu//JP
CALSCALE:GREGORIAN
BEGIN:VEVENT
DTSTART;VALUE=DATE:20260808
SUMMARY:超特急 The Movie RE:VE STANDARD EDITION-【Blu-ray】
DESCRIPTION:超特急 エイベックス・ピクチャーズ(株)
UID:4582695790177@kyohatsu.lb-product.com
END:VEVENT
BEGIN:VEVENT
DTSTART;VALUE=DATE:20260808
SUMMARY:【楽天ブックス限定先着特典】超特急 The Movie RE:VE STANDARD EDITION-【Blu-ray】(アクリルスタンド)
DESCRIPTION:超特急 エイベックス・ピクチャーズ(株)
UID:2100014948010@kyohatsu.lb-product.com
END:VEVENT
END:VCALENDAR
