BEGIN:VCALENDAR
VERSION:2.0
PRODID:-//kyohatsu//JP
CALSCALE:GREGORIAN
BEGIN:VEVENT
DTSTART;VALUE=DATE:20260604
SUMMARY:異世界魔法少女ラジカル☆ハルナ　1
DESCRIPTION:赤瀬　とまと KADOKAWA
UID:9784041174838@kyohatsu.lb-product.com
END:VEVENT
END:VCALENDAR
