BEGIN:VCALENDAR
VERSION:2.0
PRODID:-//kyohatsu//JP
CALSCALE:GREGORIAN
BEGIN:VEVENT
DTSTART;VALUE=DATE:20260512
SUMMARY:森がわたしを呼んでいる
DESCRIPTION:赤川次郎 徳間書店
UID:9784198951245@kyohatsu.lb-product.com
END:VEVENT
END:VCALENDAR
