BEGIN:VCALENDAR
VERSION:2.0
PRODID:-//kyohatsu//JP
CALSCALE:GREGORIAN
BEGIN:VEVENT
DTSTART;VALUE=DATE:20260605
SUMMARY:迷子の花嫁
DESCRIPTION:赤川　次郎 実業之日本社
UID:9784408560120@kyohatsu.lb-product.com
END:VEVENT
BEGIN:VEVENT
DTSTART;VALUE=DATE:20260610
SUMMARY:幽霊健診日
DESCRIPTION:赤川 次郎 文藝春秋
UID:9784167925208@kyohatsu.lb-product.com
END:VEVENT
END:VCALENDAR
