BEGIN:VCALENDAR
VERSION:2.0
PRODID:-//kyohatsu//JP
CALSCALE:GREGORIAN
BEGIN:VEVENT
DTSTART;VALUE=DATE:20260618
SUMMARY:メルヘンクラウン 4
DESCRIPTION:赤坂 アカ×あおいくじら×アジチカ 集英社
UID:9784088942834@kyohatsu.lb-product.com
END:VEVENT
END:VCALENDAR
