BEGIN:VCALENDAR
VERSION:2.0
PRODID:-//kyohatsu//JP
CALSCALE:GREGORIAN
BEGIN:VEVENT
DTSTART;VALUE=DATE:20260515
SUMMARY:月ぬ走いや、馬ぬ走い
DESCRIPTION:豊永 浩平 講談社
UID:9784065433775@kyohatsu.lb-product.com
END:VEVENT
END:VCALENDAR
