BEGIN:VCALENDAR
VERSION:2.0
PRODID:-//kyohatsu//JP
CALSCALE:GREGORIAN
BEGIN:VEVENT
DTSTART;VALUE=DATE:20260708
SUMMARY:【先着特典】裸のマーメード (CD盤)(ジャケットステッカー)
DESCRIPTION:豆柴の大群 エイベックス・ミュージック・クリエイティヴ(株)
UID:4988064617647@kyohatsu.lb-product.com
END:VEVENT
BEGIN:VEVENT
DTSTART;VALUE=DATE:20260708
SUMMARY:【先着特典】裸のマーメード (キッズ盤)(ジャケットステッカー)
DESCRIPTION:豆柴の大群 エイベックス・ミュージック・クリエイティヴ(株)
UID:4988064617654@kyohatsu.lb-product.com
END:VEVENT
BEGIN:VEVENT
DTSTART;VALUE=DATE:20260708
SUMMARY:【先着特典】裸のマーメード (初回生産限定盤 CD＋Blu-ray)(ジャケットステッカー)
DESCRIPTION:豆柴の大群 
UID:2100014962542@kyohatsu.lb-product.com
END:VEVENT
BEGIN:VEVENT
DTSTART;VALUE=DATE:20260708
SUMMARY:裸のマーメード (初回生産限定盤 CD＋Blu-ray)
DESCRIPTION:豆柴の大群 エイベックス・ミュージック・クリエイティヴ(株)
UID:4988064617630@kyohatsu.lb-product.com
END:VEVENT
END:VCALENDAR
