BEGIN:VCALENDAR
VERSION:2.0
PRODID:-//kyohatsu//JP
CALSCALE:GREGORIAN
BEGIN:VEVENT
DTSTART;VALUE=DATE:20260718
SUMMARY:docile (2026 Remaser)
DESCRIPTION:谷村有美 (株)ソニー・ミュージックダイレクト
UID:4547366808285@kyohatsu.lb-product.com
END:VEVENT
END:VCALENDAR
