BEGIN:VCALENDAR
VERSION:2.0
PRODID:-//kyohatsu//JP
CALSCALE:GREGORIAN
BEGIN:VEVENT
DTSTART;VALUE=DATE:20260604
SUMMARY:ゴンロン・エッグ 2
DESCRIPTION:谷崎 修平 集英社
UID:9784088851068@kyohatsu.lb-product.com
END:VEVENT
BEGIN:VEVENT
DTSTART;VALUE=DATE:20260604
SUMMARY:ゴンロン・エッグ 3
DESCRIPTION:谷崎 修平 集英社
UID:9784088851075@kyohatsu.lb-product.com
END:VEVENT
END:VCALENDAR
