BEGIN:VCALENDAR
VERSION:2.0
PRODID:-//kyohatsu//JP
CALSCALE:GREGORIAN
BEGIN:VEVENT
DTSTART;VALUE=DATE:20260521
SUMMARY:君が描きかえた名探偵と青い春
DESCRIPTION:谷夏読 東京創元社
UID:9784488029487@kyohatsu.lb-product.com
END:VEVENT
END:VCALENDAR
