BEGIN:VCALENDAR
VERSION:2.0
PRODID:-//kyohatsu//JP
CALSCALE:GREGORIAN
BEGIN:VEVENT
DTSTART;VALUE=DATE:20260528
SUMMARY:小公女たちのしあわせレシピ
DESCRIPTION:谷 瑞恵 新潮社
UID:9784101068213@kyohatsu.lb-product.com
END:VEVENT
END:VCALENDAR
