BEGIN:VCALENDAR
VERSION:2.0
PRODID:-//kyohatsu//JP
CALSCALE:GREGORIAN
BEGIN:VEVENT
DTSTART;VALUE=DATE:20260622
SUMMARY:ジウX
DESCRIPTION:誉田哲也 中央公論新社
UID:9784122078062@kyohatsu.lb-product.com
END:VEVENT
END:VCALENDAR
