BEGIN:VCALENDAR
VERSION:2.0
PRODID:-//kyohatsu//JP
CALSCALE:GREGORIAN
BEGIN:VEVENT
DTSTART;VALUE=DATE:20260526
SUMMARY:僕らには僕らの言葉がある3
DESCRIPTION:詠里 KADOKAWA
UID:9784046078247@kyohatsu.lb-product.com
END:VEVENT
END:VCALENDAR
