BEGIN:VCALENDAR
VERSION:2.0
PRODID:-//kyohatsu//JP
CALSCALE:GREGORIAN
BEGIN:VEVENT
DTSTART;VALUE=DATE:20260604
SUMMARY:新テニスの王子様 47
DESCRIPTION:許斐 剛 集英社
UID:9784088850481@kyohatsu.lb-product.com
END:VEVENT
END:VCALENDAR
