BEGIN:VCALENDAR
VERSION:2.0
PRODID:-//kyohatsu//JP
CALSCALE:GREGORIAN
BEGIN:VEVENT
DTSTART;VALUE=DATE:20260624
SUMMARY:【楽天ブックス限定先着特典】TVアニメ『クジマ歌えば家ほろろ』オリジナルサウンドトラック(ブロマイド（角銅真実 最新A写絵柄）)
DESCRIPTION:角銅真実 (株)フライングドッグ
UID:4582757039329@kyohatsu.lb-product.com
END:VEVENT
END:VCALENDAR
