BEGIN:VCALENDAR
VERSION:2.0
PRODID:-//kyohatsu//JP
CALSCALE:GREGORIAN
BEGIN:VEVENT
DTSTART;VALUE=DATE:20260619
SUMMARY:天空の城　猫城主さんじゅーろー
DESCRIPTION:西松宏 ハート出版
UID:9784802402507@kyohatsu.lb-product.com
END:VEVENT
END:VCALENDAR
