BEGIN:VCALENDAR
VERSION:2.0
PRODID:-//kyohatsu//JP
CALSCALE:GREGORIAN
BEGIN:VEVENT
DTSTART;VALUE=DATE:20260507
SUMMARY:たんたん たなばた
DESCRIPTION:西村 敏雄 白泉社
UID:9784592763925@kyohatsu.lb-product.com
END:VEVENT
END:VCALENDAR
