BEGIN:VCALENDAR
VERSION:2.0
PRODID:-//kyohatsu//JP
CALSCALE:GREGORIAN
BEGIN:VEVENT
DTSTART;VALUE=DATE:20260610
SUMMARY:あっちゃんち（3）
DESCRIPTION:西 炯子 小学館
UID:9784098734207@kyohatsu.lb-product.com
END:VEVENT
END:VCALENDAR
