BEGIN:VCALENDAR
VERSION:2.0
PRODID:-//kyohatsu//JP
CALSCALE:GREGORIAN
BEGIN:VEVENT
DTSTART;VALUE=DATE:20260513
SUMMARY:窮屈で自由な私の容れもの
DESCRIPTION:蛭田亜紗子 双葉社
UID:9784575529234@kyohatsu.lb-product.com
END:VEVENT
END:VCALENDAR
