BEGIN:VCALENDAR
VERSION:2.0
PRODID:-//kyohatsu//JP
CALSCALE:GREGORIAN
BEGIN:VEVENT
DTSTART;VALUE=DATE:20260608
SUMMARY:怖い物件　山手線めぐり（仮）
DESCRIPTION:藤白 圭 河出書房新社
UID:9784309422732@kyohatsu.lb-product.com
END:VEVENT
END:VCALENDAR
