BEGIN:VCALENDAR
VERSION:2.0
PRODID:-//kyohatsu//JP
CALSCALE:GREGORIAN
BEGIN:VEVENT
DTSTART;VALUE=DATE:20260707
SUMMARY:堕天使そぷらのちゃんの復讐2
DESCRIPTION:藤本　セツナ KADOKAWA
UID:9784049721034@kyohatsu.lb-product.com
END:VEVENT
END:VCALENDAR
