BEGIN:VCALENDAR
VERSION:2.0
PRODID:-//kyohatsu//JP
CALSCALE:GREGORIAN
BEGIN:VEVENT
DTSTART;VALUE=DATE:20260601
SUMMARY:会津の灯り
DESCRIPTION:藤本 恵子 風詠社
UID:9784434378737@kyohatsu.lb-product.com
END:VEVENT
END:VCALENDAR
