BEGIN:VCALENDAR
VERSION:2.0
PRODID:-//kyohatsu//JP
CALSCALE:GREGORIAN
BEGIN:VEVENT
DTSTART;VALUE=DATE:20260604
SUMMARY:チェンソーマン 24
DESCRIPTION:藤本 タツキ 集英社
UID:9784088850511@kyohatsu.lb-product.com
END:VEVENT
END:VCALENDAR
