BEGIN:VCALENDAR
VERSION:2.0
PRODID:-//kyohatsu//JP
CALSCALE:GREGORIAN
BEGIN:VEVENT
DTSTART;VALUE=DATE:20260525
SUMMARY:今夜も満月クリニックで 移りゆくステージ
DESCRIPTION:藤山　素心 KADOKAWA
UID:9784041171417@kyohatsu.lb-product.com
END:VEVENT
END:VCALENDAR
