BEGIN:VCALENDAR
VERSION:2.0
PRODID:-//kyohatsu//JP
CALSCALE:GREGORIAN
BEGIN:VEVENT
DTSTART;VALUE=DATE:20260509
SUMMARY:絵師金蔵 赤色浄土
DESCRIPTION:藤原緋沙子 祥伝社
UID:9784396351861@kyohatsu.lb-product.com
END:VEVENT
END:VCALENDAR
