BEGIN:VCALENDAR
VERSION:2.0
PRODID:-//kyohatsu//JP
CALSCALE:GREGORIAN
BEGIN:VEVENT
DTSTART;VALUE=DATE:20260501
SUMMARY:何でもないような事が幸せだったと思う　昭和32年に生まれた男の自分史
DESCRIPTION:藤原信行 文芸社
UID:9784286276564@kyohatsu.lb-product.com
END:VEVENT
END:VCALENDAR
