BEGIN:VCALENDAR
VERSION:2.0
PRODID:-//kyohatsu//JP
CALSCALE:GREGORIAN
BEGIN:VEVENT
DTSTART;VALUE=DATE:20260601
SUMMARY:毒を喰らわば愛まで 第1巻
DESCRIPTION:藤代千鶴 TOブックス
UID:9784868540090@kyohatsu.lb-product.com
END:VEVENT
END:VCALENDAR
