BEGIN:VCALENDAR
VERSION:2.0
PRODID:-//kyohatsu//JP
CALSCALE:GREGORIAN
BEGIN:VEVENT
DTSTART;VALUE=DATE:20260513
SUMMARY:柳橋の弥平次捕物噺【一】 影法師〈新装版〉
DESCRIPTION:藤井邦夫 双葉社
UID:9784575672848@kyohatsu.lb-product.com
END:VEVENT
END:VCALENDAR
