BEGIN:VCALENDAR
VERSION:2.0
PRODID:-//kyohatsu//JP
CALSCALE:GREGORIAN
BEGIN:VEVENT
DTSTART;VALUE=DATE:20260612
SUMMARY:ひかえめに言っても、これは愛（9）
DESCRIPTION:藤もも 講談社
UID:9784065438398@kyohatsu.lb-product.com
END:VEVENT
END:VCALENDAR
