BEGIN:VCALENDAR
VERSION:2.0
PRODID:-//kyohatsu//JP
CALSCALE:GREGORIAN
BEGIN:VEVENT
DTSTART;VALUE=DATE:20260428
SUMMARY:性悪な姉が幸せになるはずの未来予知が外れ、私が皇帝に愛されています
DESCRIPTION:藍せいあ スターツ出版
UID:9784813719205@kyohatsu.lb-product.com
END:VEVENT
END:VCALENDAR
