BEGIN:VCALENDAR
VERSION:2.0
PRODID:-//kyohatsu//JP
CALSCALE:GREGORIAN
BEGIN:VEVENT
DTSTART;VALUE=DATE:20260608
SUMMARY:お伽噺とお伽唄　新訂版
DESCRIPTION:薄田泣菫 富山房企畫
UID:9784866001487@kyohatsu.lb-product.com
END:VEVENT
END:VCALENDAR
