BEGIN:VCALENDAR
VERSION:2.0
PRODID:-//kyohatsu//JP
CALSCALE:GREGORIAN
BEGIN:VEVENT
DTSTART;VALUE=DATE:20260520
SUMMARY:ロマンス
DESCRIPTION:蓮見　翔 白水社
UID:9784560025987@kyohatsu.lb-product.com
END:VEVENT
END:VCALENDAR
