BEGIN:VCALENDAR
VERSION:2.0
PRODID:-//kyohatsu//JP
CALSCALE:GREGORIAN
BEGIN:VEVENT
DTSTART;VALUE=DATE:20260730
SUMMARY:【グッズ】蒼き流星SPTレイズナー　CHRONICLE
DESCRIPTION:蒼き流星SPTレイズナー 
UID:4934569032485@kyohatsu.lb-product.com
END:VEVENT
END:VCALENDAR
