BEGIN:VCALENDAR
VERSION:2.0
PRODID:-//kyohatsu//JP
CALSCALE:GREGORIAN
BEGIN:VEVENT
DTSTART;VALUE=DATE:20260605
SUMMARY:捨てられたヤンデレ令嬢は最恐侯爵に激重アタック中！（1）
DESCRIPTION:葵日向 竹書房
UID:9784801989788@kyohatsu.lb-product.com
END:VEVENT
END:VCALENDAR
