BEGIN:VCALENDAR
VERSION:2.0
PRODID:-//kyohatsu//JP
CALSCALE:GREGORIAN
BEGIN:VEVENT
DTSTART;VALUE=DATE:20260729
SUMMARY:【楽天ブックス限定先着特典】Adamantite(初回限定盤B CD＋グッズ)(アクリルキーホルダー)
DESCRIPTION:葛葉 ユニバーサルミュージック
UID:2100014857442@kyohatsu.lb-product.com
END:VEVENT
BEGIN:VEVENT
DTSTART;VALUE=DATE:20260729
SUMMARY:【楽天ブックス限定先着特典】Adamantite(通常盤)(アクリルキーホルダー)
DESCRIPTION:葛葉 ユニバーサルミュージック
UID:4988031845219@kyohatsu.lb-product.com
END:VEVENT
BEGIN:VEVENT
DTSTART;VALUE=DATE:20260729
SUMMARY:Adamantite(初回限定盤B CD＋グッズ)
DESCRIPTION:葛葉 ユニバーサルミュージック
UID:4988031845202@kyohatsu.lb-product.com
END:VEVENT
BEGIN:VEVENT
DTSTART;VALUE=DATE:20260729
SUMMARY:【楽天ブックス限定先着特典】Adamantite(初回限定盤A 2CD)(アクリルキーホルダー)
DESCRIPTION:葛葉 ユニバーサルミュージック
UID:4988031845196@kyohatsu.lb-product.com
END:VEVENT
END:VCALENDAR
