BEGIN:VCALENDAR
VERSION:2.0
PRODID:-//kyohatsu//JP
CALSCALE:GREGORIAN
BEGIN:VEVENT
DTSTART;VALUE=DATE:20260525
SUMMARY:欲情プールサイド 女子大水泳部
DESCRIPTION:葉月奏太 竹書房
UID:9784801949362@kyohatsu.lb-product.com
END:VEVENT
END:VCALENDAR
