BEGIN:VCALENDAR
VERSION:2.0
PRODID:-//kyohatsu//JP
CALSCALE:GREGORIAN
BEGIN:VEVENT
DTSTART;VALUE=DATE:20260527
SUMMARY:「おつかれメンタル」いたわり帳
DESCRIPTION:華井由利奈 光文社
UID:9784334109875@kyohatsu.lb-product.com
END:VEVENT
END:VCALENDAR
